Workbook

Sheet Transportation SDC Calculation
A3: ITE Code | B3: Land Use | C3: Unit | D3: P.M. Peak Hour Vehicle Trips | E3: Primary Trip Adjustments as a Percent of Total1 | F3: Adjusted P.M. Peak Hour Vehicle Trips | G3: Number of P.M. Peak Hour Person Trips1 | H3: Gross Square Footage | I3: Number of Units | J3: SDC Amount
A5: 110 | B5: General Light Industrial | C5: 1,000 SFGFA | D5: 1.08 | E5: 1 | F5: =D5*E5 -> 1.08 | G5: =F5*1.68 -> 1.8144 | H5: 0 | I5: xxxxxx | J5: =H5/1000*'Charge Analysis'!C21*G5*M27 -> 0
A6: 140 | B6: Manufacturing | C6: 1,000 SFGFA | D6: 0.75 | E6: 1 | F6: =D6*E6 -> 0.75 | G6: =F6*1.68 -> 1.26 | H6: 0 | I6: xxxxxx | J6: =H6/1000*'Charge Analysis'!C21*G6*M27 -> 0
A7: 210 | B7: Single-Family Detached Housing | C7: Dwelling unit | D7: 1.02 | E7: 1 | F7: =D7*E7 -> 1.02 | G7: =F7*1.68 -> 1.7136 | H7: xxxxxx | I7: 0 | J7: =I7*'Charge Analysis'!C21*G7*M27 -> 0
A8: 220 | B8: Apartment | C8: Dwelling unit | D8: 0.67 | E8: 1 | F8: =D8*E8 -> 0.67 | G8: =F8*1.68 -> 1.1256 | H8: xxxxxx | I8: 0 | J8: =I8*'Charge Analysis'!C21*G8*M27 -> 0
A9: 492 | B9: Health/Fitness Club | C9: 1,000 SFGFA | D9: 4.06 | E9: 1 | F9: =D9*E9 -> 4.06 | G9: =F9*1.68 -> 6.8208 | H9: 0 | I9: xxxxxx | J9: =H9/1000*'Charge Analysis'!C21*G9*M27 -> 0
A10: 530 | B10: High School | C10: 1,000 SFGFA | D10: 2.12 | E10: 0.59 | F10: =D10*E10 -> 1.2508 | G10: =F10*1.68 -> 2.101344 | H10: 0 | I10: xxxxxx | J10: =H10/1000*'Charge Analysis'!C21*G10*M27 -> 0
A11: 540 | B11: Junior/Community College | C11: 1,000 SFGFA | D11: 2.64 | E11: 1 | F11: =D11*E11 -> 2.64 | G11: =F11*1.68 -> 4.4352 | H11: 0 | I11: xxxxxx | J11: =H11/1000*'Charge Analysis'!C21*G11*M27 -> 0
A12: 560 | B12: Church | C12: 1,000 SFGFA | D12: 0.94 | E12: 1 | F12: =D12*E12 -> 0.94 | G12: =F12*1.68 -> 1.5792 | H12: 0 | I12: xxxxxx | J12: =H12/1000*'Charge Analysis'!C21*G12*M27 -> 0
A13: 710 | B13: General Office Building | C13: 1,000 SFGFA | D13: 1.49 | E13: 1 | F13: =D13*E13 -> 1.49 | G13: =F13*1.68 -> 2.5032 | H13: 0 | I13: xxxxxx | J13: =H13/1000*'Charge Analysis'!C21*G13*M27 -> 0
A14: 820 | B14: Shopping Center | C14: 1,000 SFGLA | D14: 3.71 | E14: 0.5014 | F14: =D14*E14 -> 1.860194 | G14: =F14*1.68 -> 3.1251259 | H14: 0 | I14: xxxxxx | J14: =H14/1000*'Charge Analysis'!C21*G14*M27 -> 0
A15: 934 | B15: Fast-Food Restaurant with Drive-Through | C15: 1,000 SFGFA | D15: 47.3 | E15: 0.40944444 | F15: =D15*E15 -> 19.366722 | G15: =F15*1.68 -> 32.536093 | H15: 0 | I15: xxxxxx | J15: =H15/1000*'Charge Analysis'!C21*G15*M27 -> 0
A16: 937 | B16: Coffee/Donut Shop with Drive-Through | C16: 1,000 SFGFA | D16: 36.16 | E16: 0.40944444 | F16: =D16*E16 -> 14.805511 | G16: =F16*1.68 -> 24.873259 | H16: 0 | I16: xxxxxx | J16: =H16/1000*'Charge Analysis'!C21*G16*M27 -> 0
A17: 565 | B17: Day Care Center | C17: 1,000 SFGFA | D17: 13.75 | E17: 0.33 | F17: =D17*E17 -> 4.5375 | G17: =F17*1.68 -> 7.623 | H17: 0 | I17: xxxxxx | J17: =H17/1000*'Charge Analysis'!C21*G17*M27 -> 0
A18: 931 | B18: Quality Restaurant | C18: 1,000 SFGFA | D18: 9.02 | E18: 0.425 | F18: =D18*E18 -> 3.8335 | G18: =F18*1.68 -> 6.44028 | H18: 0 | I18: xxxxxx | J18: =H18/1000*'Charge Analysis'!C21*G18*M27 -> 0
B20: Inputs go into blue cells.
L27: Multiplier | M27: 1

Sheet Charge Analysis
C2: Total
A3: Reimbursement Cost Basis | C3: ='Inventory of Current System'!E35 -> 12112482
A4: Growth Capacity Requirements | C4: ='Planning Data'!B10 -> 9116.9
A5: Unit Cost | C5: =C3/C4 -> 1328.5746
A9: Reimbursement $/PMPHPT | C9: =C5 -> 1328.5746
A14: Improvement Cost Basis | C14: ='CIP List'!F79 -> 25227114
C15: ='Planning Data'!B10 -> 9116.9
C16: =C14/C15 -> 2767.0715
A18: Improvement $/PMPHPT | C18: =C16 -> 2767.0715
B21: Max Allowed SDC/PMPHPT | C21: =C18+C9 -> 4095.6461
A26: Current SDC/PMPHPT | B26: 4903

Sheet Planning Data
A2: Capacity Requirements (Needs)
A5: Current PMPHPT (1) | B5: =I10*1.3 -> 33497.1
A7: Future PMPHPT (2) | B7: =J10*1.3 -> 42614
H9: 2017 | I9: 2025 | J9: 2040
A10: Amount of Growth | B10: =B7-B5 -> 9116.9 | G10: PMPHPT | H10: 31189 | I10: 25767 | J10: 32780
J13: =1 - I10/J10 -> 0.21394143
A17: PMPHPT = PM Peak Hour Person Trips
A18: (1) Based on Existing Population
A19: (2) Based on Population Forecast at Build Out (most up to date PSU numbers)

Sheet Inventory of Current System
A1: Category | B1: Description of Asset | C1: Unique Project Number | D1: Installed | E1: Costs
A2: Infrastructure | B2: Blaine Street,1st St Block-9th Street Block,- | D2: 6/30/2013 | E2: 163503
A3: Infrastructure | B3: Edwards Street,Hancock-Sheridan,- | D3: 6/30/2013 | E3: 12592
A4: Infrastructure | B4: Harrison,2nd-3rd,- | D4: 6/30/2013 | E4: 16686
A5: Infrastructure | B5: Harrison,3rd-4th,- | D5: 6/30/2013 | E5: 11580
A6: Infrastructure | B6: S Main St,1st St-5th St,- | D6: 6/30/2013 | E6: 79437
A7: Infrastructure | B7: Meridian St,Sierra Vista-Hemlock,- | D7: 6/30/2013 | E7: 14929
A8: Infrastructure | B8: Meridian St,Hemlock-Pinehurst,- | D8: 6/30/2013 | E8: 26344
A9: Infrastructure | B9: Pinehurst Dr,N Main-N College,- | D9: 6/30/2013 | E9: 80865
A10: Infrastructure | B10: Springbrook Rd from YC,-,- | D10: 6/30/2011 | E10: 150603
A11: Infrastructure | B11: Sandoz Rd,-,- | D11: 6/30/2011 | E11: 104400
A12: Infrastructure | B12: 2nd Street,-,- | D12: 6/30/2011 | E12: 554870
A13: Infrastructure | B13: Columbia Drive LID,-,- | D13: 6/30/2010 | E13: 134314
... A16: Infrastructure | B16: 9th & Meridian Rehab,-,- | D16: 6/30/2008 | E16: 189240
A17: CIP | B17: Scott Levitt Sidewalks | D17: 44742 | E17: 142767.08
A18: CIP | B18: College St Bikelane & Sidewalk | D18: 44377 | E18: 67893.75
A19: Infrastructure | B19: Memorial Park Sidewalks | D19: 44377 | E19: 165376.68
A20: CIP | B20: North Elliot Road | D20: 43646 | E20: 1317046.6
A21: CIP | B21: Crestview Dr. | D21: 43646 | E21: 2629983.5
A22: Buildings & Improvements | B22: PWA Building - 500 W 3rd St (year over year buildings inprove/add to the base line from 2017) | D22: 42916 | E22: =19882.5+57000+57000 -> 133882.5
A23: Infrastructure | B23: Land Improvements - 520 W 3rd Property Purchase | D23: 42551 | E23: 25705.12
A24: Infrastructure | B24: Pavement Rehab (Springbrook rd to Haworth to Vittoria) | D24: 42185 | E24: 23112.26
A25: Infrastructure | B25: Sheridan Street Blaine to School | D25: 41820 | E25: 117219.06
A26: Infrastructure | B26: Bike Route Improvements | D26: 41820 | E26: 14316.11
A27: Infrastructure | B27: College St-Bike Ln/W Sidewalk | D27: 41820 | E27: 655406.94
A28: Infrastructure | B28: North College Street - Aldercrest Foothillls (utilizing 0% SDC eligibility) | D28: 45955 | E28: 0
A29: Buildings & Improvements | B29: Vactor Truck Building ($474,195.99 as of 6/30/2025 SDC portion included in the PWA building) | D29: 46022 | E29: 0
A30: CIP | B30: new roundabout on Mountainview Dr / Villa Rd (100% SDC Eligible $998,931) | D30: 46022 | E30: 998931
D35: Total Reimbursement Infrastructure | E35: =SUM(E2:E34) -> 12112482

Sheet CIP List
A1: Description: | B1: Close of 2025 Status: | C1: Roads under State or County Jurisdiction | D1: Estimated | E1: % SDC Eligible | F1: $ Eligible
A2: Reconstruct OR 240 for approximately 0.36 miles between the west edge of the Urban Growth Boundary and Main Street to full, 3- lane minor arterial street standards. | C2: State/County Jurisdiction | D2: 2290896 | E2: 0.4201 | F2: 962405.41
A3: Reconstruct to full minor arterial standards between Illinois and 1st to include three travel lanes, bike lanes, and sidewalks. | C3: State/County Jurisdiction | D3: 1431810 | E3: 0.0585 | F3: 83760.885
A4: Construct new street between 9th St and River St to major collector standards. | C4: N/A | D4: 1784141.3 | E4: 1 | F4: 1784141.3
A5: Reconstruct to minor arterial street standards between 1st St and Bell Rd to include sidewalks and bicycle lanes on each side of College Street. | C5: State/County Jurisdiction | D5: 9371196.4 | E5: 0.3705 | F5: 3472028.3
A6: Construct Rogers Landing Rd from Willamette River to UGB to major collector standards. | C6: N/A | D6: 1288629 | E6: 1 | F6: 1288629
A7: Construct Villa Rd from Mountainview Dr to Aspen Way and construct to major collector standards with sidewalks and bike lanes. | C7: N/A | D7: 3006801 | E7: 1 | F7: 3006801
A8: Safety Improvement: Reconstruct Mountainview Dr between Villa Rd and Alice Way to minor arterial standards. Include bike lanes and sidewalks on both sides. | C8: N/A | D8: 1084993.8 | E8: 0.3579 | F8: 388319.28
A9: Reconstruct Mountainview Dr between Alice Way and Aspen Way to minor arterial standards. Include bike lanes and sidewalks on both sides. | C9: N/A | D9: 1489082.4 | E9: 0.3724 | F9: 554534.29
A10: Construct Hayes St from its eastern terminus at Deborah St to Springbrook St to minor collector street standards | C10: N/A | D10: 572724 | E10: 1 | F10: 572724
A11: Reconstruct OR219 to arterial standards between 1st Street and the UGB to include sidewalks and bicycle lanes on each side of OR219. | C11: State/County Jurisdiction | D11: 8447679 | E11: 0.4803 | F11: 4057420.2
A12: Restripe Dayton Avenue to major collector street standards between 5th Street and Newberg city limits to include bicycle lanes on each side of Dayton Avenue | C12: State/County Jurisdiction | D12: 14318.1 | E12: 0.3401 | F12: 4869.5858
A13: Reconstruct 3rd Street to minor collector street standards between OR 99W and Main Street to include sidewalks and on-street parking on each side of 3rd Street | C13: N/A | D13: 116931.15 | E13: 0.3467 | F13: 40540.03
... A66: Paving gravel Roads (AKA: Gravel Town) one phase at a time | C66: CIP 2026/2027 | D66: 2380000 | E66: 0.4 | F66: 952000
A67: Fleet Mechanic Building (est completion '27-'28) | B67: spread across all 4 SDC models at 20% | C67: CIP 2026/2027 | D67: 600000 | E67: 0.2 | F67: 120000
F70: 51418198
E72: State/County Road projects | F72: 18496189
E74: Amount after removal of State/County Road | F74: 32922009
D76: Reserves | F76: 7694895
D77: SDC Project Total | F77: 43723303
D79: SDC Project Total w/o State/County | F79: 25227114
